BEGIN:VCALENDAR
VERSION:2.0
PRODID:-//sustain.firespring.org//NONSGML kigkonsult.se iCalcreator 2.30.10
 //
CALSCALE:GREGORIAN
METHOD:PUBLISH
UID:10fd48f7-5ccc-4f36-9d2d-0db1fffca8ad
X-WR-CALDESC:
X-WR-RELCALID:bb5c9ed1de1e7a344eae0af36f694a50
X-WR-TIMEZONE:America/Chicago
BEGIN:VTIMEZONE
TZID:America/Chicago
BEGIN:STANDARD
TZNAME:CST
DTSTART:20211107T020000
TZOFFSETFROM:-0500
TZOFFSETTO:-0600
RDATE:20221106T020000
RDATE:20231105T020000
END:STANDARD
BEGIN:DAYLIGHT
TZNAME:CDT
DTSTART:20220313T020000
TZOFFSETFROM:-0600
TZOFFSETTO:-0500
RDATE:20230312T020000
RDATE:20240310T020000
END:DAYLIGHT
END:VTIMEZONE
BEGIN:VEVENT
UID:1208dac8-4037-4d5b-882b-c80996dd2696
DTSTAMP:20260424T115329Z
DESCRIPTION:
DTSTART;TZID=America/Chicago:20221026T150000
DTEND;TZID=America/Chicago:20221026T170000
LOCATION:211 N 14th St.
SUMMARY:Volunteer Orientation
END:VEVENT
END:VCALENDAR
