BEGIN:VCALENDAR
VERSION:2.0
PRODID:-//sustain.firespring.org//NONSGML kigkonsult.se iCalcreator 2.30.10
 //
CALSCALE:GREGORIAN
METHOD:PUBLISH
UID:cfe6160b-dd8a-46f7-8116-5204e4d21ccf
X-WR-CALDESC:
X-WR-RELCALID:ea3a17bb8799065db237e447b596b360
X-WR-TIMEZONE:America/Chicago
BEGIN:VTIMEZONE
TZID:America/Chicago
BEGIN:STANDARD
TZNAME:CST
DTSTART:20221106T020000
TZOFFSETFROM:-0500
TZOFFSETTO:-0600
RDATE:20231105T020000
END:STANDARD
BEGIN:DAYLIGHT
TZNAME:CDT
DTSTART:20220313T020000
TZOFFSETFROM:-0600
TZOFFSETTO:-0500
RDATE:20230312T020000
RDATE:20240310T020000
END:DAYLIGHT
END:VTIMEZONE
BEGIN:VEVENT
UID:d04b0ecd-7da0-4fb9-8c04-bcd46671cf4a
DTSTAMP:20260424T085224Z
DESCRIPTION:
DTSTART;TZID=America/Chicago:20221221T150000
DTEND;TZID=America/Chicago:20221221T170000
LOCATION:211 N 14th St.
SUMMARY:Volunteer Orientation
END:VEVENT
END:VCALENDAR
