BEGIN:VCALENDAR
VERSION:2.0
PRODID:-//sustain.firespring.org//NONSGML kigkonsult.se iCalcreator 2.30.10
 //
CALSCALE:GREGORIAN
METHOD:PUBLISH
UID:7a986cb5-64a0-47dc-8740-ac578ee4e4f2
X-WR-CALDESC:
X-WR-RELCALID:5ff8a07b99696b5959758c99705ec0cf
X-WR-TIMEZONE:America/Chicago
BEGIN:VTIMEZONE
TZID:America/Chicago
BEGIN:STANDARD
TZNAME:CST
DTSTART:20231105T020000
TZOFFSETFROM:-0500
TZOFFSETTO:-0600
RDATE:20241103T020000
END:STANDARD
BEGIN:DAYLIGHT
TZNAME:CDT
DTSTART:20230312T020000
TZOFFSETFROM:-0600
TZOFFSETTO:-0500
RDATE:20240310T020000
RDATE:20250309T020000
END:DAYLIGHT
END:VTIMEZONE
BEGIN:VEVENT
UID:8f624602-0f38-464b-b245-3b2296f5f907
DTSTAMP:20260423T155755Z
DESCRIPTION:
DTSTART;TZID=America/Chicago:20231129T150000
DTEND;TZID=America/Chicago:20231129T170000
LOCATION:211 N 14th St.
SUMMARY:Volunteer Orientation
END:VEVENT
END:VCALENDAR
