BEGIN:VCALENDAR
VERSION:2.0
PRODID:-//sustain.firespring.org//NONSGML kigkonsult.se iCalcreator 2.30.10
 //
CALSCALE:GREGORIAN
METHOD:PUBLISH
UID:d078c280-96cd-4751-aa70-b3a39462efb4
X-WR-CALDESC:
X-WR-RELCALID:a7b319f44809107812609f12063ac939
X-WR-TIMEZONE:America/Chicago
BEGIN:VTIMEZONE
TZID:America/Chicago
BEGIN:STANDARD
TZNAME:CST
DTSTART:20241103T020000
TZOFFSETFROM:-0500
TZOFFSETTO:-0600
RDATE:20251102T020000
END:STANDARD
BEGIN:DAYLIGHT
TZNAME:CDT
DTSTART:20240310T020000
TZOFFSETFROM:-0600
TZOFFSETTO:-0500
RDATE:20250309T020000
RDATE:20260308T020000
END:DAYLIGHT
END:VTIMEZONE
BEGIN:VEVENT
UID:7fc245b9-19fb-4a2e-8ada-e95f6c57a89f
DTSTAMP:20260420T141701Z
DESCRIPTION:
DTSTART;TZID=America/Chicago:20250115T150000
DTEND;TZID=America/Chicago:20250115T170000
LOCATION:211 N 14th St.
SUMMARY:Volunteer Orientation
END:VEVENT
END:VCALENDAR
