BEGIN:VCALENDAR
VERSION:2.0
PRODID:-//sustain.firespring.org//NONSGML kigkonsult.se iCalcreator 2.30.10
 //
CALSCALE:GREGORIAN
METHOD:PUBLISH
UID:f91ea7a6-d0b4-4cc0-8b2f-bcf4868bf000
X-WR-CALDESC:
X-WR-RELCALID:9cf6fd4e410ac32aa113c4b27bc91fbe
X-WR-TIMEZONE:America/Chicago
BEGIN:VTIMEZONE
TZID:America/Chicago
BEGIN:STANDARD
TZNAME:CST
DTSTART:20241103T020000
TZOFFSETFROM:-0500
TZOFFSETTO:-0600
RDATE:20251102T020000
END:STANDARD
BEGIN:DAYLIGHT
TZNAME:CDT
DTSTART:20250309T020000
TZOFFSETFROM:-0600
TZOFFSETTO:-0500
RDATE:20260308T020000
END:DAYLIGHT
END:VTIMEZONE
BEGIN:VEVENT
UID:22e8d672-1c8a-4e2a-b0e8-f674090b8587
DTSTAMP:20260420T112637Z
DESCRIPTION:
DTSTART;TZID=America/Chicago:20250319T150000
DTEND;TZID=America/Chicago:20250319T170000
LOCATION:211 N 14th St.
SUMMARY:Volunteer Orientation
END:VEVENT
END:VCALENDAR
